BEGIN:VCALENDAR
VERSION:2.0
PRODID:-//Akademie für angewandte Musiktherapie Crossen
CALSCALE:GREGORIAN
METHOD:PUBLISH
X-WR-CALNAME:Akademie für angewandte Musiktherapie Crossen
X-ORIGINAL-URL:https://www.musiktherapie-crossen.de/k-event/liedbegleitung-und-mehrstimmigkeit-beim-offenen-gruppensingen/
X-WR-CALDESC:Liedbegleitung und Mehrstimmigkeit beim (offenen) Gruppensingen
BEGIN:VEVENT
DTSTART:
DTEND:
SUMMARY:Liedbegleitung und Mehrstimmigkeit beim (offenen) Gruppensingen
DESCRIPTION:
LOCATION:
END:VEVENT
END:VCALENDAR
