BEGIN:VCALENDAR
VERSION:2.0
PRODID:-//Akademie für angewandte Musiktherapie Crossen
CALSCALE:GREGORIAN
METHOD:PUBLISH
X-WR-CALNAME:Akademie für angewandte Musiktherapie Crossen
X-ORIGINAL-URL:https://www.musiktherapie-crossen.de/k-event/workshop-bandcamp-arbeit-mit-jugendlichen-im-schnittfeld-paedagogik-therapie/
X-WR-CALDESC:Workshop Bandcamp &#8211; Arbeit mit Jugendlichen im Schnittfeld Pädagogik/Therapie
BEGIN:VEVENT
DTSTART:
DTEND:
SUMMARY:Workshop Bandcamp &#8211; Arbeit mit Jugendlichen im Schnittfeld Pädagogik/Therapie
DESCRIPTION:
LOCATION:
END:VEVENT
END:VCALENDAR
