BEGIN:VCALENDAR
VERSION:2.0
PRODID:-//Akademie für angewandte Musiktherapie Crossen
CALSCALE:GREGORIAN
METHOD:PUBLISH
X-WR-CALNAME:Akademie für angewandte Musiktherapie Crossen
X-ORIGINAL-URL:https://www.musiktherapie-crossen.de/k-event/umgang-mit-unsicherheit-und-widerstand-in-der-musiktherapeutischen-arbeit/
X-WR-CALDESC:Umgang mit Unsicherheit und Widerstand in der musiktherapeutischen Arbeit
BEGIN:VEVENT
DTSTART:
DTEND:
SUMMARY:Umgang mit Unsicherheit und Widerstand in der musiktherapeutischen Arbeit
DESCRIPTION:
LOCATION:
END:VEVENT
END:VCALENDAR
