BEGIN:VCALENDAR
VERSION:2.0
PRODID:-//Akademie für angewandte Musiktherapie Crossen
CALSCALE:GREGORIAN
METHOD:PUBLISH
X-WR-CALNAME:Akademie für angewandte Musiktherapie Crossen
X-ORIGINAL-URL:https://www.musiktherapie-crossen.de/k-event/regulative-musiktherapie-fuer-fortgeschrittene-leitertraining/
X-WR-CALDESC:Regulative Musiktherapie für Fortgeschrittene (Leitertraining)
BEGIN:VEVENT
DTSTART:
DTEND:
SUMMARY:Regulative Musiktherapie für Fortgeschrittene (Leitertraining)
DESCRIPTION:
LOCATION:
END:VEVENT
END:VCALENDAR
