BEGIN:VCALENDAR
VERSION:2.0
PRODID:-//Akademie für angewandte Musiktherapie Crossen
CALSCALE:GREGORIAN
METHOD:PUBLISH
X-WR-CALNAME:Akademie für angewandte Musiktherapie Crossen
X-ORIGINAL-URL:https://www.musiktherapie-crossen.de/k-event/bildgestalten-mit-musik/
X-WR-CALDESC:Bildgestalten mit Musik
BEGIN:VEVENT
DTSTART:
DTEND:
SUMMARY:Bildgestalten mit Musik
DESCRIPTION:
LOCATION:
END:VEVENT
END:VCALENDAR
