BEGIN:VCALENDAR
VERSION:2.0
PRODID:-//Akademie für angewandte Musiktherapie Crossen
CALSCALE:GREGORIAN
METHOD:PUBLISH
X-WR-CALNAME:Akademie für angewandte Musiktherapie Crossen
X-ORIGINAL-URL:https://www.musiktherapie-crossen.de/k-event/musiktherapie-in-der-dyade/
X-WR-CALDESC:Musiktherapie in der Dyade
BEGIN:VEVENT
DTSTART:
DTEND:
SUMMARY:Musiktherapie in der Dyade
DESCRIPTION:
LOCATION:
END:VEVENT
END:VCALENDAR
